BEGIN:VCALENDAR
VERSION:2.0
PRODID:-//wp-events-plugin.com//7.2.3.1//EN
TZID:Europe/Zurich
X-WR-TIMEZONE:Europe/Zurich
BEGIN:VEVENT
UID:57@sp-kriens.ch
DTSTART;TZID=Europe/Zurich;VALUE=DATE:20170212
DTEND;TZID=Europe/Zurich;VALUE=DATE:20170213
DTSTAMP:20170129T075957Z
URL:https://www.sp-kriens.ch/events/abstimmungssonntag-7/
SUMMARY:Abstimmungssonntag
DESCRIPTION:Eidgenössisch\n\n 	Bundesbeschluss vom 30. September 2016 übe
 r die erleichterte Einbürgerung von Personen der dritten Ausländergenera
 tion\, JA\n 	Bundesbeschluss vom 30. September 2016 über die Schaffung ei
 nes Fonds für die Nationalstrassen und den Agglomerationsverkehr. NEIN\n 
 	Bundesgesetz vom 17. Juni 2016 über steuerliche Massnahmen zur Stärkung
  der Wettbewerbsfähigkeit des Unternehmensstandorts Schweiz (Unternehmens
 steuerreformgesetz III). NEIN\n\nKommunal\n\n 	Neues Parkplatzreglement. J
 A\n\n \n\nMehr: https://www.gemeinde-kriens.ch/gemeindebuero/dienstleistu
 ngen---detailview/wahlen-und-abstimmungen-2017.page/1171
ATTACH;FMTTYPE=image/jpeg:https://www.sp-kriens.ch/wp-content/uploads/2015
 /01/juso_abstimmung.gif
CATEGORIES:Abstimmungen
END:VEVENT
BEGIN:VTIMEZONE
TZID:Europe/Zurich
X-LIC-LOCATION:Europe/Zurich
BEGIN:STANDARD
DTSTART:20161030T020000
TZOFFSETFROM:+0200
TZOFFSETTO:+0100
TZNAME:CET
END:STANDARD
END:VTIMEZONE
END:VCALENDAR