BEGIN:VCALENDAR
VERSION:2.0
PRODID:-//wp-events-plugin.com//7.2.3.1//EN
TZID:Europe/Zurich
X-WR-TIMEZONE:Europe/Zurich
BEGIN:VEVENT
UID:31@sp-kriens.ch
DTSTART;TZID=Europe/Zurich:20160130T100000
DTEND;TZID=Europe/Zurich:20160130T130000
DTSTAMP:20151228T202031Z
URL:https://www.sp-kriens.ch/events/besichtigung-zentrumsbauten/
SUMMARY:Besichtigung Zentrumsbauten
DESCRIPTION:\n\n\n\n\nDie SP Kriens unterstützt die Realisierung des neuen
  Zentrums\, ermöglicht aber der breiten Bevölkerung einen Abschied von d
 en alten Gebäuden.\n\n\n\n\n\nDas neue Zentrum stärkt die Identifikation
  mit unserer Stadt. Wir Krienserinnen und Krienser wirken aktiv an der Ne
 ugestaltung mit.\n\n\n\n\n\n\n\n\n
ATTACH;FMTTYPE=image/jpeg:https://www.sp-kriens.ch/wp-content/uploads/2014
 /01/5138b00edc004.jpg
CATEGORIES:Informationsanlass,Veranstaltungen
LOCATION:Kino Scala\, Luzernerstrasse 15\, Kriens\, Luzern\, 6010\, Luzern\
 , Schweiz
GEO:47.0340041;8.280172499999935
X-APPLE-STRUCTURED-LOCATION;VALUE=URI;X-ADDRESS=Luzernerstrasse 15\, Kriens
 \, Luzern\, 6010\, Luzern\, Schweiz;X-APPLE-RADIUS=100;X-TITLE=Kino Scala:
 geo:47.0340041,8.280172499999935
END:VEVENT
BEGIN:VTIMEZONE
TZID:Europe/Zurich
X-LIC-LOCATION:Europe/Zurich
BEGIN:STANDARD
DTSTART:20151025T020000
TZOFFSETFROM:+0200
TZOFFSETTO:+0100
TZNAME:CET
END:STANDARD
END:VTIMEZONE
END:VCALENDAR