BEGIN:VCALENDAR
VERSION:2.0
PRODID:-//wp-events-plugin.com//7.2.3.1//EN
TZID:Europe/Zurich
X-WR-TIMEZONE:Europe/Zurich
BEGIN:VEVENT
UID:47@sp-kriens.ch
DTSTART;TZID=Europe/Zurich;VALUE=DATE:20160501
DTEND;TZID=Europe/Zurich;VALUE=DATE:20160502
DTSTAMP:20160313T131030Z
URL:https://www.sp-kriens.ch/events/einwohner-und-gemeinderatswahlen-krien
 s/
SUMMARY:Einwohner- und Gemeinderatswahlen Kriens
DESCRIPTION:Die SP Kriens versucht für die Wahlen überall präsent zu sei
 n. Monatlich mit einem Inserat im Kriens Info\, mit zahlreichen Standaktio
 nen\, Werbeveranstaltungen und natürlich auf politischem Parkett.\n\nAlle
  diese Anstrengungen sollen Früchte tragen\, um am 01.Mai 2016 unsere Sit
 ze zu halten\, oder wer weiss\, vielleicht sogar auszubauen.\n\nIn Kriens 
 stehen wichtige Themen vor einem Entscheid. Und da will die SP-Kriens akti
 v mitgestalten und mitentscheiden.\n\nDazu braucht es jeden einzelnen von 
 Euch!\n\n&nbsp\;\n\nGelegenheit dazu hast Du bereits am\n\n	 März\, 20.00
  Uhr\, im Singsaal Meiersmatt.\n\nDann organisiert die SP Kriens gemeinsam
  mit den Quartiervereinen einen Info Anlass zum Thema „Quartierstrukture
 n stärken“. Am Ostersamstag 26.März verteilt die SP-Kriens an verschie
 denen Standorten O-SP-er Eier. Komm und hilf mit.\n\nAber so richtig Deine
  Mithilfe brauchen wir am 01. Mai 2016. Dann ist Wahltermin.\n\nEs gilt al
 le SP nahen und unentschlossenen Krienserinnen und Krienser an die Urne zu
  bewegen. Sprich deine Verwandten\, Bekannten\, Freunde und Nachbarn an un
 d versuche sie zu überzeugen an der Urne ihre Stimme einzulegen. Eine hoh
 e Stimmbeteiligung hat der SP schon oft geholfen.\n\nUm eine linke\, konti
 nuierliche\, konstruktive und kompetente Politik zu wählen\, Liste 5 einl
 egen!\n\nMelde dich online unter info@sp-kriens.ch um Werbematerial zu erh
 alten.\n\nWas es heisst\, wenn ein Parlament rechtslastig ist\, mussten wi
 r bereits in den letzten Tagen im Nationalrat erfahren. Da wurde mit der V
 erlängerung von Betriebsbewilligungen für alte AKW’s  faktisch Abstan
 d zum Atomausstieg genommen. Und es wird wohl nicht lange dauern\, kommen 
 soziale Errungenschaften unter Druck.\n\nVersuchen wir doch zumindest in K
 riens die Linke Seite im Parlament zu stärken.\n\nMit Deiner Hilfe wird e
 s klappen.\n\n&nbsp\;\n\nVielen Dank für Deinen Urnengang und dein Engage
 ment\n\nRaphael Spörri\, Präsident SP Kriens
ATTACH;FMTTYPE=image/jpeg:https://www.sp-kriens.ch/wp-content/uploads/2015
 /10/2015-10-14-07.59.28.jpg
CATEGORIES:Wahlen
END:VEVENT
BEGIN:VTIMEZONE
TZID:Europe/Zurich
X-LIC-LOCATION:Europe/Zurich
BEGIN:DAYLIGHT
DTSTART:20160327T030000
TZOFFSETFROM:+0100
TZOFFSETTO:+0200
TZNAME:CEST
END:DAYLIGHT
END:VTIMEZONE
END:VCALENDAR