BEGIN:VCALENDAR
VERSION:2.0
PRODID:-//wp-events-plugin.com//7.2.3.1//EN
TZID:Europe/Zurich
X-WR-TIMEZONE:Europe/Zurich
BEGIN:VEVENT
UID:237@sp-kriens.ch
DTSTART;TZID=Europe/Zurich:20240905T163000
DTEND;TZID=Europe/Zurich:20240905T203000
DTSTAMP:20240709T083609Z
URL:https://www.sp-kriens.ch/events/feier-einwohnerratspraesident-2024-mic
 hael-portmann/
SUMMARY:FEIER Einwohnerratspräsident 2024* MICHAEL PORTMANN
DESCRIPTION:Die SP Kriens lädt Euch am 5. September 2024 zu den Feierlichk
 eiten anlässlich des Starts in die neue Legislatur 2024 – 2028 der Krie
 nser Politik ein. Wir freuen uns\, dass wir mit Michael Portmann – unter
  Vorbehalt der Wahl – den Einwohnerratspräsidenten stellen dürfen.\n\n
 16:30 Uhr KONSTITUTIERENDE SITZUNG des Einwohnerrats\nWahl des Einwohnerra
 tspräsidenten fürs Amtsjahr 2024/2025\nWahl der Kommissionen des Einwohn
 errats fürs die Legislatur 2024-2028\nWahl der Delegationen des Stadtrate
 s für die Legislatur 2024-2028\nFür Gäste\, Angehörige\, Freunde und Z
 uschauende stehen Plätze auf der Tribüne im Pilatussaal im 1. Stock zur 
 Verfügung. Ihr seid herzlich eingeladen : )\n\n18:30 Uhr APERO im Foyer d
 es Stadthauses\nIhr seid alle herzlich eingeladen : )
ATTACH;FMTTYPE=image/jpeg:https://www.sp-kriens.ch/wp-content/uploads/2014
 /12/spkriens.png
CATEGORIES:Einwohnerrat,Veranstaltungen,Versammlungen
LOCATION:Pilatussaal\, Stadthaus Kriens\, Kriens\, 6010\, Schweiz
GEO:47.0340184;8.280274899999995
X-APPLE-STRUCTURED-LOCATION;VALUE=URI;X-ADDRESS=Stadthaus Kriens\, Kriens\,
  6010\, Schweiz;X-APPLE-RADIUS=100;X-TITLE=Pilatussaal:geo:47.0340184,8.28
 0274899999995
END:VEVENT
BEGIN:VTIMEZONE
TZID:Europe/Zurich
X-LIC-LOCATION:Europe/Zurich
BEGIN:DAYLIGHT
DTSTART:20240331T030000
TZOFFSETFROM:+0100
TZOFFSETTO:+0200
TZNAME:CEST
END:DAYLIGHT
END:VTIMEZONE
END:VCALENDAR