BEGIN:VCALENDAR
VERSION:2.0
PRODID:-//wp-events-plugin.com//7.2.3.1//EN
TZID:Europe/Zurich
X-WR-TIMEZONE:Europe/Zurich
BEGIN:VEVENT
UID:79@sp-kriens.ch
DTSTART;TZID=Europe/Zurich:20170809T193000
DTEND;TZID=Europe/Zurich:20170809T213000
DTSTAMP:20170625T190803Z
URL:https://www.sp-kriens.ch/events/offener-stammtisch-3/
SUMMARY:Offener Stammtisch - Es twittert von  Nord- bis Südpol
DESCRIPTION:\n\nPolitik ist interessant. Vor allem wenn sie gelebt wird bei
 m Diskutieren\, wo man Fragen stellen und Meinungen austauschen kann. Dabe
 i darf auch eine Stange Bier getrunken werden. Wichtig ist einzig\, dass w
 ir uns einbringen. Deshalb organisiert die SP Kriens im 2017 neu einen off
 enen Stammtisch für alle\, egal aus welcher Ecke. Mit dabei ist jeweils e
 in interessanter Gast zum Ausfragen.\n\nGast: Michael Sorg\, SP Medien Sc
 hweiz \n\n\nMacht Polarisierung politmüde? Was bewirken Fake News und alt
 ernative Fakten im Kleinen und Grossen? Kann man sich überhaupt dagegen w
 ehren? Was sagt unser Medienverantworlicher der SP Schweiz dazu?\n
ATTACH;FMTTYPE=image/jpeg:https://www.sp-kriens.ch/wp-content/uploads/2016
 /12/LogoStammtisch.png
CATEGORIES:Informationsanlass,SP Stamm,Veranstaltungen
LOCATION:Bistro Schnauserei\, Luzernerstrasse 1\, Kriens\, 6010\, Schweiz
GEO:47.03400569999999;8.277958099999978
X-APPLE-STRUCTURED-LOCATION;VALUE=URI;X-ADDRESS=Luzernerstrasse 1\, Kriens\
 , 6010\, Schweiz;X-APPLE-RADIUS=100;X-TITLE=Bistro Schnauserei:geo:47.0340
 0569999999,8.277958099999978
END:VEVENT
BEGIN:VTIMEZONE
TZID:Europe/Zurich
X-LIC-LOCATION:Europe/Zurich
BEGIN:DAYLIGHT
DTSTART:20170326T030000
TZOFFSETFROM:+0100
TZOFFSETTO:+0200
TZNAME:CEST
END:DAYLIGHT
END:VTIMEZONE
END:VCALENDAR