BEGIN:VCALENDAR
VERSION:2.0
PRODID:-//wp-events-plugin.com//7.2.3.1//EN
TZID:Europe/Zurich
X-WR-TIMEZONE:Europe/Zurich
BEGIN:VEVENT
UID:38@sp-kriens.ch
DTSTART;TZID=Europe/Zurich:20160322T200000
DTEND;TZID=Europe/Zurich:20160322T220000
DTSTAMP:20160313T130318Z
URL:https://www.sp-kriens.ch/events/sp-aktion-wahlen-16/
SUMMARY:Quartierstrukturen stärken!
DESCRIPTION:Die SP-Kriens führt am 22.März 2016 einen Diskussion Abend zu
 m Thema „Quartierstrukturen stärken“ durch.\n\nWie können wir die Qu
 artierstrukturen stärken und unsere Interessen\nbesser wahrnehmen?\nWas i
 st uns in unserem Quartierleben wichtig?\nWie können wir unsere Zusammena
 rbeit mit der Gemeinde verbessern?\nWie gestalten wir unsere Quartiere leb
 enswerter?\n\n\nFragen die\, auch nach der vom Gemeinderat organisierten Z
 ukunfts-\nKonferenz\, noch ungenügend gelöst sind.\n\nWir laden sie daru
 m herzlich ein\, an diesem Abend mit den Quartiervereinen und der SP-Krien
 s auf diese Fragen Antworten zu finden.\n\nProgramm:\n\n	Begrüssung\n	Ref
 erat von Claudia Greter (Kontaktstelle für Quartierarbeit Stadt Basel)\n	
 Pause\n	Gruppenarbeit: Was erlebe ich im Quartier positiv? Was negativ? 
 Wünsche und Anregungen?\n	Diskussion im Plenum\n	Abschluss\n\n
ATTACH;FMTTYPE=image/jpeg:https://www.sp-kriens.ch/wp-content/uploads/2015
 /12/SP-Wahlen-16-Plakat-F4-maerz.jpg
CATEGORIES:Informationsanlass,Veranstaltungen,Wahlen
LOCATION:Singsaal Schulhaus Meiersmatt\, Südstrasse 36\, Kriens\, 6010\, L
 uzern\, Schweiz
GEO:47.03177170000001;8.268020200000024
X-APPLE-STRUCTURED-LOCATION;VALUE=URI;X-ADDRESS=Südstrasse 36\, Kriens\, 6
 010\, Luzern\, Schweiz;X-APPLE-RADIUS=100;X-TITLE=Singsaal Schulhaus Meier
 smatt:geo:47.03177170000001,8.268020200000024
END:VEVENT
BEGIN:VTIMEZONE
TZID:Europe/Zurich
X-LIC-LOCATION:Europe/Zurich
BEGIN:STANDARD
DTSTART:20151025T020000
TZOFFSETFROM:+0200
TZOFFSETTO:+0100
TZNAME:CET
END:STANDARD
END:VTIMEZONE
END:VCALENDAR