BEGIN:VCALENDAR
VERSION:2.0
PRODID:-//wp-events-plugin.com//7.2.3.1//EN
TZID:Europe/Zurich
X-WR-TIMEZONE:Europe/Zurich
BEGIN:VEVENT
UID:174@sp-kriens.ch
DTSTART;TZID=Europe/Zurich:20220507T090000
DTEND;TZID=Europe/Zurich:20220507T150000
DTSTAMP:20220427T192927Z
URL:https://www.sp-kriens.ch/events/vernetzungsanlass21/
SUMMARY:Workshop «Aufbruch & Zukunft»
DESCRIPTION:\n\nWir laden Euch zum Workshop «Aufbruch &amp\; Zukunft» der
  SP Kriens am 7. Mai 2022 ein. Am 10. November fand ein erster SP Stammtis
 ch statt\, an welchem alle Teilnehmenden ihr Feedback und ihre Inputs zur 
 SP Kriens einbringen und diskutieren konnten. In der Folge gab es auch ein
 e Umfrage\, um auch Personen\, die nicht teilnehmen konnten\, Raum für ih
 re Meinungen zu geben. Es kristallisierten sich verschiedene Themen heraus
 \, mit denen dieser Workshop «Aufbruch &amp\; Zukunft» durchgeführt wir
 d.\n\nZiel des Workshops ist\, auf Grund der gesammelten Erkenntnisse geme
 insam Strategien und Massnahmen zu entwickeln. Wir wollen die SP Kriens zu
 sammen mit Dir weiterentwickeln und zählen dabei auf Deine Ideen\, Deine 
 Visionen und ganz wichtig - auf Deine Beteiligung. Wir brauchen Dich\, um 
 die Visionen Realität werden zu lassen.\n\nBitte meldet Euch unter folgen
 dem Link zum Workshop an:\n\nhttps://docs.google.com/forms/d/e/1FAIpQLScKZ
 tc6eZy2G1R2LbCch_w9Svsy0vvGYGcsWg_QHSKx11THLw/viewform?usp=sf_link\n\nWir 
 freuen uns auf Euch und spannende Diskussionen  :  )\n\nHerzliche Grüss
 e\n\n&nbsp\;\n\nPia und MichaelCo-Präsidium SP Kriens\n\n&nbsp\;\n\n*****
 ***********************************************************************\n\
 nWorkshop Aufbruch und Zukunft\n\nDatum:                 
   Samstag\, 07. Mai 2022\n\nZeit:                    
    13.00 – 17.00 Uhr\; Anschliessend Apéro\n\nOrt:         
                 Schule Grossfeld – Singsaal\n\nHorwerstra
 sse 3\, 6010 Kriens\n\n\n\n\nPia &amp\; Michael\n\nmit Martina\, Cedric un
 d Kilian\, dem Kernteam Aufbruch &amp\; Zukunft SP Kriens :)\n\n
ATTACH;FMTTYPE=image/jpeg:https://www.sp-kriens.ch/wp-content/uploads/2014
 /12/spkriens.png
CATEGORIES:Informationsanlass,Veranstaltungen,Vernetzungsanlass,Versammlun
 gen
LOCATION:Singsaal Grossfeld\, Horwerstrasse 3\, Kriens\, Luzern\, 6010\, Lu
 zern\, Schweiz
GEO:47.0332565;8.281542299999956
X-APPLE-STRUCTURED-LOCATION;VALUE=URI;X-ADDRESS=Horwerstrasse 3\, Kriens\, 
 Luzern\, 6010\, Luzern\, Schweiz;X-APPLE-RADIUS=100;X-TITLE=Singsaal Gross
 feld:geo:47.0332565,8.281542299999956
END:VEVENT
BEGIN:VTIMEZONE
TZID:Europe/Zurich
X-LIC-LOCATION:Europe/Zurich
BEGIN:DAYLIGHT
DTSTART:20220327T030000
TZOFFSETFROM:+0100
TZOFFSETTO:+0200
TZNAME:CEST
END:DAYLIGHT
END:VTIMEZONE
END:VCALENDAR