BEGIN:VCALENDAR
VERSION:2.0
PRODID:-//wp-events-plugin.com//7.2.3.1//EN
TZID:Europe/Zurich
X-WR-TIMEZONE:Europe/Zurich
BEGIN:VEVENT
UID:41@sp-kriens.ch
DTSTART;TZID=Europe/Zurich:20160326T090000
DTEND;TZID=Europe/Zurich:20160326T130000
DTSTAMP:20160312T105552Z
URL:https://www.sp-kriens.ch/events/verteilung-o-sp-er-eier/
SUMMARY:Verteilung "O-SP-er"-Eier
DESCRIPTION:Mehrere Standorte in Kriens
ATTACH;FMTTYPE=image/jpeg:https://www.sp-kriens.ch/wp-content/uploads/2014
 /12/cropped-spkriens.png
CATEGORIES:Standaktion,Veranstaltungen,Wahlen
END:VEVENT
BEGIN:VTIMEZONE
TZID:Europe/Zurich
X-LIC-LOCATION:Europe/Zurich
BEGIN:STANDARD
DTSTART:20151025T020000
TZOFFSETFROM:+0200
TZOFFSETTO:+0100
TZNAME:CET
END:STANDARD
END:VTIMEZONE
END:VCALENDAR